BEGIN:VCALENDAR
VERSION:2.0
PRODID:icalendar-ruby
CALSCALE:GREGORIAN
METHOD:PUBLISH
BEGIN:VEVENT
DTSTAMP:20260422T224035Z
UID:45-4380640@abundantlifekap.com
DTSTART:20261015T193000Z
DTEND:20261015T210000Z
CLASS:PUBLIC
CREATED:20260422T175856
DESCRIPTION:
LAST-MODIFIED:20260422T175856
LOCATION:Abundant Life 13 Ash St.
SUMMARY:Reach  Jr. High after School Program
URL;VALUE=URI:https://www.abundantlifekap.com/events/reach-jr-high-after-sc
 hool-program/2026-10-15
ATTACH;FILENAME=Untitled design (3).png;FMTTYPE=image/png:https://dq5pwpg1q
 8ru0.cloudfront.net/2021/08/23/12/55/28/1f5887b6-ca4e-4f51-a855-14544de5b4
 b1/Untitled%20design%20(3).png
END:VEVENT
END:VCALENDAR
