BEGIN:VCALENDAR
VERSION:2.0
PRODID:icalendar-ruby
CALSCALE:GREGORIAN
METHOD:PUBLISH
BEGIN:VEVENT
DTSTAMP:20260421T115102Z
UID:6-4358022@abundantlifekap.com
DTSTART:20260730T193000Z
DTEND:20260730T203000Z
CLASS:PUBLIC
CREATED:20260421T061739
DESCRIPTION:Reach Student Drop-In
LAST-MODIFIED:20260421T061739
LOCATION:Abundant Life 
SUMMARY:Reach Student Drop-In
URL;VALUE=URI:https://www.abundantlifekap.com/events/reach-student-drop-in/
 2026-07-30
END:VEVENT
END:VCALENDAR
