BEGIN:VCALENDAR
VERSION:2.0
PRODID:icalendar-ruby
CALSCALE:GREGORIAN
METHOD:PUBLISH
BEGIN:VEVENT
DTSTAMP:20260421T144524Z
UID:6-4360140@abundantlifekap.com
DTSTART:20260813T193000Z
DTEND:20260813T203000Z
CLASS:PUBLIC
CREATED:20260421T085348
DESCRIPTION:Reach Student Drop-In
LAST-MODIFIED:20260421T085348
LOCATION:Abundant Life 
SUMMARY:Reach Student Drop-In
URL;VALUE=URI:https://www.abundantlifekap.com/events/reach-student-drop-in/
 2026-08-13
END:VEVENT
END:VCALENDAR
