BEGIN:VCALENDAR
VERSION:2.0
PRODID:icalendar-ruby
CALSCALE:GREGORIAN
METHOD:PUBLISH
BEGIN:VEVENT
DTSTAMP:20260421T163334Z
UID:6-4362257@abundantlifekap.com
DTSTART:20260820T193000Z
DTEND:20260820T203000Z
CLASS:PUBLIC
CREATED:20260421T112958
DESCRIPTION:Reach Student Drop-In
LAST-MODIFIED:20260421T112958
LOCATION:Abundant Life 
SUMMARY:Reach Student Drop-In
URL;VALUE=URI:https://www.abundantlifekap.com/events/reach-student-drop-in/
 2026-08-20
END:VEVENT
END:VCALENDAR
