BEGIN:VCALENDAR
VERSION:2.0
PRODID:icalendar-ruby
CALSCALE:GREGORIAN
METHOD:PUBLISH
BEGIN:VEVENT
DTSTAMP:20260421T195005Z
UID:6-4364375@abundantlifekap.com
DTSTART:20260903T193000Z
DTEND:20260903T203000Z
CLASS:PUBLIC
CREATED:20260421T140943
DESCRIPTION:Reach Student Drop-In
LAST-MODIFIED:20260421T140943
LOCATION:Abundant Life 
SUMMARY:Reach Student Drop-In
URL;VALUE=URI:https://www.abundantlifekap.com/events/reach-student-drop-in/
 2026-09-03
END:VEVENT
END:VCALENDAR
