BEGIN:VCALENDAR
VERSION:2.0
PRODID:icalendar-ruby
CALSCALE:GREGORIAN
METHOD:PUBLISH
BEGIN:VEVENT
DTSTAMP:20260422T022611Z
UID:6-4368611@abundantlifekap.com
DTSTART:20261001T193000Z
DTEND:20261001T203000Z
CLASS:PUBLIC
CREATED:20260421T192424
DESCRIPTION:Reach Student Drop-In
LAST-MODIFIED:20260421T192424
LOCATION:Abundant Life 
SUMMARY:Reach Student Drop-In
URL;VALUE=URI:https://www.abundantlifekap.com/events/reach-student-drop-in/
 2026-10-01
END:VEVENT
END:VCALENDAR
