BEGIN:VCALENDAR
VERSION:2.0
PRODID:icalendar-ruby
CALSCALE:GREGORIAN
METHOD:PUBLISH
BEGIN:VEVENT
DTSTAMP:20260422T070248Z
UID:6-4368614@abundantlifekap.com
DTSTART:20261022T193000Z
DTEND:20261022T203000Z
CLASS:PUBLIC
CREATED:20260421T192424
DESCRIPTION:Reach Student Drop-In
LAST-MODIFIED:20260421T192424
LOCATION:Abundant Life 
SUMMARY:Reach Student Drop-In
URL;VALUE=URI:https://www.abundantlifekap.com/events/reach-student-drop-in/
 2026-10-22
END:VEVENT
END:VCALENDAR
