BEGIN:VCALENDAR
VERSION:2.0
PRODID:icalendar-ruby
CALSCALE:GREGORIAN
METHOD:PUBLISH
BEGIN:VEVENT
DTSTAMP:20260422T160233Z
UID:107-4374446@abundantlifekap.com
DTSTART:20260918T233000Z
DTEND:20260919T010000Z
CLASS:PUBLIC
CREATED:20260422T091407
DESCRIPTION:
LAST-MODIFIED:20260422T091407
LOCATION:
SUMMARY:Rooted High School
URL;VALUE=URI:https://www.abundantlifekap.com/events/rooted-high-school/202
 6-09-18
END:VEVENT
END:VCALENDAR
