BEGIN:VCALENDAR
VERSION:2.0
PRODID:icalendar-ruby
CALSCALE:GREGORIAN
METHOD:PUBLISH
BEGIN:VEVENT
DTSTAMP:20260422T172310Z
UID:107-4376563@abundantlifekap.com
DTSTART:20260925T233000Z
DTEND:20260926T010000Z
CLASS:PUBLIC
CREATED:20260422T120927
DESCRIPTION:
LAST-MODIFIED:20260422T120927
LOCATION:
SUMMARY:Rooted High School
URL;VALUE=URI:https://www.abundantlifekap.com/events/rooted-high-school/202
 6-09-25
END:VEVENT
END:VCALENDAR
