BEGIN:VCALENDAR
VERSION:2.0
PRODID:icalendar-ruby
CALSCALE:GREGORIAN
METHOD:PUBLISH
BEGIN:VEVENT
DTSTAMP:20260422T215320Z
UID:107-4378682@abundantlifekap.com
DTSTART:20261016T233000Z
DTEND:20261017T010000Z
CLASS:PUBLIC
CREATED:20260422T150359
DESCRIPTION:
LAST-MODIFIED:20260422T150359
LOCATION:
SUMMARY:Rooted High School
URL;VALUE=URI:https://www.abundantlifekap.com/events/rooted-high-school/202
 6-10-16
END:VEVENT
END:VCALENDAR
