BEGIN:VCALENDAR
VERSION:2.0
PRODID:icalendar-ruby
CALSCALE:GREGORIAN
METHOD:PUBLISH
BEGIN:VEVENT
DTSTAMP:20260423T004514Z
UID:107-4380800@abundantlifekap.com
DTSTART:20261030T233000Z
DTEND:20261031T010000Z
CLASS:PUBLIC
CREATED:20260422T175857
DESCRIPTION:
LAST-MODIFIED:20260422T175857
LOCATION:
SUMMARY:Rooted High School
URL;VALUE=URI:https://www.abundantlifekap.com/events/rooted-high-school/202
 6-10-30
END:VEVENT
END:VCALENDAR
