BEGIN:VCALENDAR
VERSION:2.0
PRODID:icalendar-ruby
CALSCALE:GREGORIAN
METHOD:PUBLISH
BEGIN:VEVENT
DTSTAMP:20260422T105733Z
UID:7-4371030@abundantlifekap.com
DTSTART:20221007T230000Z
DTEND:20221008T000000Z
CLASS:PUBLIC
CREATED:20260422T061946
DESCRIPTION:Rooted Student Ministry 
LAST-MODIFIED:20260422T061946
LOCATION:Abundant Life 
SUMMARY:Rooted Student Ministry 
URL;VALUE=URI:https://www.abundantlifekap.com/events/rooted-student-ministr
 y/2022-10-07
END:VEVENT
END:VCALENDAR
