BEGIN:VCALENDAR
VERSION:2.0
PRODID:icalendar-ruby
CALSCALE:GREGORIAN
METHOD:PUBLISH
BEGIN:VEVENT
DTSTAMP:20260422T135410Z
UID:7-4373148@abundantlifekap.com
DTSTART:20221021T230000Z
DTEND:20221022T000000Z
CLASS:PUBLIC
CREATED:20260422T091405
DESCRIPTION:Rooted Student Ministry 
LAST-MODIFIED:20260422T091405
LOCATION:Abundant Life 
SUMMARY:Rooted Student Ministry 
URL;VALUE=URI:https://www.abundantlifekap.com/events/rooted-student-ministr
 y/2022-10-21
END:VEVENT
END:VCALENDAR
