BEGIN:VCALENDAR
VERSION:2.0
PRODID:icalendar-ruby
CALSCALE:GREGORIAN
METHOD:PUBLISH
BEGIN:VEVENT
DTSTAMP:20260422T170204Z
UID:7-4375266@abundantlifekap.com
DTSTART:20221104T230000Z
DTEND:20221105T000000Z
CLASS:PUBLIC
CREATED:20260422T120924
DESCRIPTION:Rooted Student Ministry 
LAST-MODIFIED:20260422T120924
LOCATION:Abundant Life 
SUMMARY:Rooted Student Ministry 
URL;VALUE=URI:https://www.abundantlifekap.com/events/rooted-student-ministr
 y/2022-11-04
END:VEVENT
END:VCALENDAR
