BEGIN:VCALENDAR
VERSION:2.0
PRODID:icalendar-ruby
CALSCALE:GREGORIAN
METHOD:PUBLISH
BEGIN:VEVENT
DTSTAMP:20260422T184621Z
UID:7-4375267@abundantlifekap.com
DTSTART:20221112T000000Z
DTEND:20221112T010000Z
CLASS:PUBLIC
CREATED:20260422T120924
DESCRIPTION:Rooted Student Ministry 
LAST-MODIFIED:20260422T120924
LOCATION:Abundant Life 
SUMMARY:Rooted Student Ministry 
URL;VALUE=URI:https://www.abundantlifekap.com/events/rooted-student-ministr
 y/2022-11-11
END:VEVENT
END:VCALENDAR
