BEGIN:VCALENDAR
VERSION:2.0
PRODID:icalendar-ruby
CALSCALE:GREGORIAN
METHOD:PUBLISH
BEGIN:VEVENT
DTSTAMP:20260422T213349Z
UID:7-4377385@abundantlifekap.com
DTSTART:20221126T000000Z
DTEND:20221126T010000Z
CLASS:PUBLIC
CREATED:20260422T150357
DESCRIPTION:Rooted Student Ministry 
LAST-MODIFIED:20260422T150357
LOCATION:Abundant Life 
SUMMARY:Rooted Student Ministry 
URL;VALUE=URI:https://www.abundantlifekap.com/events/rooted-student-ministr
 y/2022-11-25
END:VEVENT
END:VCALENDAR
