BEGIN:VCALENDAR
VERSION:2.0
PRODID:icalendar-ruby
CALSCALE:GREGORIAN
METHOD:PUBLISH
BEGIN:VEVENT
DTSTAMP:20260423T015710Z
UID:7-4381620@abundantlifekap.com
DTSTART:20221217T000000Z
DTEND:20221217T010000Z
CLASS:PUBLIC
CREATED:20260422T205028
DESCRIPTION:Rooted Student Ministry 
LAST-MODIFIED:20260422T205028
LOCATION:Abundant Life 
SUMMARY:Rooted Student Ministry 
URL;VALUE=URI:https://www.abundantlifekap.com/events/rooted-student-ministr
 y/2022-12-16
END:VEVENT
END:VCALENDAR
