BEGIN:VCALENDAR
VERSION:2.0
PRODID:icalendar-ruby
CALSCALE:GREGORIAN
METHOD:PUBLISH
BEGIN:VEVENT
DTSTAMP:20260423T031125Z
UID:7-4381621@abundantlifekap.com
DTSTART:20221224T000000Z
DTEND:20221224T010000Z
CLASS:PUBLIC
CREATED:20260422T205028
DESCRIPTION:Rooted Student Ministry 
LAST-MODIFIED:20260422T205028
LOCATION:Abundant Life 
SUMMARY:Rooted Student Ministry 
URL;VALUE=URI:https://www.abundantlifekap.com/events/rooted-student-ministr
 y/2022-12-23
END:VEVENT
END:VCALENDAR
