BEGIN:VCALENDAR
VERSION:2.0
PRODID:icalendar-ruby
CALSCALE:GREGORIAN
METHOD:PUBLISH
BEGIN:VEVENT
DTSTAMP:20260423T075440Z
UID:7-4381624@abundantlifekap.com
DTSTART:20230114T000000Z
DTEND:20230114T010000Z
CLASS:PUBLIC
CREATED:20260422T205028
DESCRIPTION:Rooted Student Ministry 
LAST-MODIFIED:20260422T205028
LOCATION:Abundant Life 
SUMMARY:Rooted Student Ministry 
URL;VALUE=URI:https://www.abundantlifekap.com/events/rooted-student-ministr
 y/2023-01-13
END:VEVENT
END:VCALENDAR
