BEGIN:VCALENDAR
VERSION:2.0
PRODID:icalendar-ruby
CALSCALE:GREGORIAN
METHOD:PUBLISH
BEGIN:VEVENT
DTSTAMP:20260423T104330Z
UID:7-4383743@abundantlifekap.com
DTSTART:20230128T000000Z
DTEND:20230128T010000Z
CLASS:PUBLIC
CREATED:20260423T061936
DESCRIPTION:Rooted Student Ministry 
LAST-MODIFIED:20260423T061936
LOCATION:Abundant Life 
SUMMARY:Rooted Student Ministry 
URL;VALUE=URI:https://www.abundantlifekap.com/events/rooted-student-ministr
 y/2023-01-27
END:VEVENT
END:VCALENDAR
