BEGIN:VCALENDAR
VERSION:2.0
PRODID:icalendar-ruby
CALSCALE:GREGORIAN
METHOD:PUBLISH
BEGIN:VEVENT
DTSTAMP:20260423T121732Z
UID:7-4383744@abundantlifekap.com
DTSTART:20230204T000000Z
DTEND:20230204T010000Z
CLASS:PUBLIC
CREATED:20260423T061936
DESCRIPTION:Rooted Student Ministry 
LAST-MODIFIED:20260423T061936
LOCATION:Abundant Life 
SUMMARY:Rooted Student Ministry 
URL;VALUE=URI:https://www.abundantlifekap.com/events/rooted-student-ministr
 y/2023-02-03
END:VEVENT
END:VCALENDAR
