BEGIN:VCALENDAR
VERSION:2.0
PRODID:icalendar-ruby
CALSCALE:GREGORIAN
METHOD:PUBLISH
BEGIN:VEVENT
DTSTAMP:20260423T153500Z
UID:7-4385863@abundantlifekap.com
DTSTART:20230218T000000Z
DTEND:20230218T010000Z
CLASS:PUBLIC
CREATED:20260423T091518
DESCRIPTION:Rooted Student Ministry 
LAST-MODIFIED:20260423T091518
LOCATION:Abundant Life 
SUMMARY:Rooted Student Ministry 
URL;VALUE=URI:https://www.abundantlifekap.com/events/rooted-student-ministr
 y/2023-02-17
END:VEVENT
END:VCALENDAR
