BEGIN:VCALENDAR
VERSION:2.0
PRODID:icalendar-ruby
CALSCALE:GREGORIAN
METHOD:PUBLISH
BEGIN:VEVENT
DTSTAMP:20260423T171757Z
UID:7-4387981@abundantlifekap.com
DTSTART:20230225T000000Z
DTEND:20230225T010000Z
CLASS:PUBLIC
CREATED:20260423T120747
DESCRIPTION:Rooted Student Ministry 
LAST-MODIFIED:20260423T120747
LOCATION:Abundant Life 
SUMMARY:Rooted Student Ministry 
URL;VALUE=URI:https://www.abundantlifekap.com/events/rooted-student-ministr
 y/2023-02-24
END:VEVENT
END:VCALENDAR
