BEGIN:VCALENDAR
VERSION:2.0
PRODID:icalendar-ruby
CALSCALE:GREGORIAN
METHOD:PUBLISH
BEGIN:VEVENT
DTSTAMP:20260423T203948Z
UID:7-4390100@abundantlifekap.com
DTSTART:20230311T000000Z
DTEND:20230311T010000Z
CLASS:PUBLIC
CREATED:20260423T150504
DESCRIPTION:Rooted Student Ministry 
LAST-MODIFIED:20260423T150504
LOCATION:Abundant Life 
SUMMARY:Rooted Student Ministry 
URL;VALUE=URI:https://www.abundantlifekap.com/events/rooted-student-ministr
 y/2023-03-10
END:VEVENT
END:VCALENDAR
