BEGIN:VCALENDAR
VERSION:2.0
PRODID:icalendar-ruby
CALSCALE:GREGORIAN
METHOD:PUBLISH
BEGIN:VEVENT
DTSTAMP:20260424T002101Z
UID:7-4392220@abundantlifekap.com
DTSTART:20230324T230000Z
DTEND:20230325T000000Z
CLASS:PUBLIC
CREATED:20260423T175925
DESCRIPTION:Rooted Student Ministry 
LAST-MODIFIED:20260423T175925
LOCATION:Abundant Life 
SUMMARY:Rooted Student Ministry 
URL;VALUE=URI:https://www.abundantlifekap.com/events/rooted-student-ministr
 y/2023-03-24
END:VEVENT
END:VCALENDAR
