BEGIN:VCALENDAR
VERSION:2.0
PRODID:icalendar-ruby
CALSCALE:GREGORIAN
METHOD:PUBLISH
BEGIN:VEVENT
DTSTAMP:20260424T155709Z
UID:7-4398587@abundantlifekap.com
DTSTART:20230602T230000Z
DTEND:20230603T000000Z
CLASS:PUBLIC
CREATED:20260424T091456
DESCRIPTION:Rooted Student Ministry 
LAST-MODIFIED:20260424T091456
LOCATION:Abundant Life 
SUMMARY:Rooted Student Ministry 
URL;VALUE=URI:https://www.abundantlifekap.com/events/rooted-student-ministr
 y/2023-06-02
END:VEVENT
END:VCALENDAR
