BEGIN:VCALENDAR
VERSION:2.0
PRODID:icalendar-ruby
CALSCALE:GREGORIAN
METHOD:PUBLISH
BEGIN:VEVENT
DTSTAMP:20260425T030053Z
UID:7-4407070@abundantlifekap.com
DTSTART:20230721T230000Z
DTEND:20230722T000000Z
CLASS:PUBLIC
CREATED:20260424T202754
DESCRIPTION:Rooted Student Ministry 
LAST-MODIFIED:20260424T202754
LOCATION:Abundant Life 
SUMMARY:Rooted Student Ministry 
URL;VALUE=URI:https://www.abundantlifekap.com/events/rooted-student-ministr
 y/2023-07-21
END:VEVENT
END:VCALENDAR
