BEGIN:VCALENDAR
VERSION:2.0
PRODID:icalendar-ruby
CALSCALE:GREGORIAN
METHOD:PUBLISH
BEGIN:VEVENT
DTSTAMP:20260425T104354Z
UID:7-4409195@abundantlifekap.com
DTSTART:20230825T230000Z
DTEND:20230826T000000Z
CLASS:PUBLIC
CREATED:20260425T061830
DESCRIPTION:Rooted Student Ministry 
LAST-MODIFIED:20260425T061830
LOCATION:Abundant Life 
SUMMARY:Rooted Student Ministry 
URL;VALUE=URI:https://www.abundantlifekap.com/events/rooted-student-ministr
 y/2023-08-25
END:VEVENT
END:VCALENDAR
