BEGIN:VCALENDAR
VERSION:2.0
PRODID:icalendar-ruby
CALSCALE:GREGORIAN
METHOD:PUBLISH
BEGIN:VEVENT
DTSTAMP:20260425T122840Z
UID:7-4409196@abundantlifekap.com
DTSTART:20230901T230000Z
DTEND:20230902T000000Z
CLASS:PUBLIC
CREATED:20260425T061830
DESCRIPTION:Rooted Student Ministry 
LAST-MODIFIED:20260425T061830
LOCATION:Abundant Life 
SUMMARY:Rooted Student Ministry 
URL;VALUE=URI:https://www.abundantlifekap.com/events/rooted-student-ministr
 y/2023-09-01
END:VEVENT
END:VCALENDAR
