BEGIN:VCALENDAR
VERSION:2.0
PRODID:icalendar-ruby
CALSCALE:GREGORIAN
METHOD:PUBLISH
BEGIN:VEVENT
DTSTAMP:20260425T154341Z
UID:7-4413440@abundantlifekap.com
DTSTART:20230915T230000Z
DTEND:20230916T000000Z
CLASS:PUBLIC
CREATED:20260425T114047
DESCRIPTION:Rooted Student Ministry 
LAST-MODIFIED:20260425T114047
LOCATION:Abundant Life 
SUMMARY:Rooted Student Ministry 
URL;VALUE=URI:https://www.abundantlifekap.com/events/rooted-student-ministr
 y/2023-09-15
END:VEVENT
END:VCALENDAR
