BEGIN:VCALENDAR
VERSION:2.0
PRODID:icalendar-ruby
CALSCALE:GREGORIAN
METHOD:PUBLISH
BEGIN:VEVENT
DTSTAMP:20260425T210107Z
UID:7-4415564@abundantlifekap.com
DTSTART:20231006T230000Z
DTEND:20231007T000000Z
CLASS:PUBLIC
CREATED:20260425T142055
DESCRIPTION:Rooted Student Ministry 
LAST-MODIFIED:20260425T142055
LOCATION:Abundant Life 
SUMMARY:Rooted Student Ministry 
URL;VALUE=URI:https://www.abundantlifekap.com/events/rooted-student-ministr
 y/2023-10-06
END:VEVENT
END:VCALENDAR
