BEGIN:VCALENDAR
VERSION:2.0
PRODID:icalendar-ruby
CALSCALE:GREGORIAN
METHOD:PUBLISH
BEGIN:VEVENT
DTSTAMP:20260425T230239Z
UID:7-4417686@abundantlifekap.com
DTSTART:20231013T230000Z
DTEND:20231014T000000Z
CLASS:PUBLIC
CREATED:20260425T170236
DESCRIPTION:Rooted Student Ministry 
LAST-MODIFIED:20260425T170236
LOCATION:Abundant Life 
SUMMARY:Rooted Student Ministry 
URL;VALUE=URI:https://www.abundantlifekap.com/events/rooted-student-ministr
 y/2023-10-13
END:VEVENT
END:VCALENDAR
