BEGIN:VCALENDAR
VERSION:2.0
PRODID:icalendar-ruby
CALSCALE:GREGORIAN
METHOD:PUBLISH
BEGIN:VEVENT
DTSTAMP:20260426T033550Z
UID:7-4419810@abundantlifekap.com
DTSTART:20231103T230000Z
DTEND:20231104T000000Z
CLASS:PUBLIC
CREATED:20260425T194538
DESCRIPTION:Rooted Student Ministry 
LAST-MODIFIED:20260425T194538
LOCATION:Abundant Life 
SUMMARY:Rooted Student Ministry 
URL;VALUE=URI:https://www.abundantlifekap.com/events/rooted-student-ministr
 y/2023-11-03
END:VEVENT
END:VCALENDAR
