BEGIN:VCALENDAR
VERSION:2.0
PRODID:icalendar-ruby
CALSCALE:GREGORIAN
METHOD:PUBLISH
BEGIN:VEVENT
DTSTAMP:20260421T093231Z
UID:7-4356418@abundantlifekap.com
DTSTART:20260807T230000Z
DTEND:20260808T000000Z
CLASS:PUBLIC
CREATED:20260420T191157
DESCRIPTION:Rooted Student Ministry 
LAST-MODIFIED:20260420T191157
LOCATION:Abundant Life 
SUMMARY:Rooted Student Ministry 
URL;VALUE=URI:https://www.abundantlifekap.com/events/rooted-student-ministr
 y/2026-08-07
END:VEVENT
END:VCALENDAR
