BEGIN:VCALENDAR
VERSION:2.0
PRODID:icalendar-ruby
CALSCALE:GREGORIAN
METHOD:PUBLISH
BEGIN:VEVENT
DTSTAMP:20260421T105509Z
UID:7-4358535@abundantlifekap.com
DTSTART:20260814T230000Z
DTEND:20260815T000000Z
CLASS:PUBLIC
CREATED:20260421T061740
DESCRIPTION:Rooted Student Ministry 
LAST-MODIFIED:20260421T061740
LOCATION:Abundant Life 
SUMMARY:Rooted Student Ministry 
URL;VALUE=URI:https://www.abundantlifekap.com/events/rooted-student-ministr
 y/2026-08-14
END:VEVENT
END:VCALENDAR
