BEGIN:VCALENDAR
VERSION:2.0
PRODID:icalendar-ruby
CALSCALE:GREGORIAN
METHOD:PUBLISH
BEGIN:VEVENT
DTSTAMP:20260421T121500Z
UID:7-4358536@abundantlifekap.com
DTSTART:20260821T230000Z
DTEND:20260822T000000Z
CLASS:PUBLIC
CREATED:20260421T061740
DESCRIPTION:Rooted Student Ministry 
LAST-MODIFIED:20260421T061740
LOCATION:Abundant Life 
SUMMARY:Rooted Student Ministry 
URL;VALUE=URI:https://www.abundantlifekap.com/events/rooted-student-ministr
 y/2026-08-21
END:VEVENT
END:VCALENDAR
