BEGIN:VCALENDAR
VERSION:2.0
PRODID:icalendar-ruby
CALSCALE:GREGORIAN
METHOD:PUBLISH
BEGIN:VEVENT
DTSTAMP:20260421T152832Z
UID:7-4360654@abundantlifekap.com
DTSTART:20260904T230000Z
DTEND:20260905T000000Z
CLASS:PUBLIC
CREATED:20260421T085349
DESCRIPTION:Rooted Student Ministry 
LAST-MODIFIED:20260421T085349
LOCATION:Abundant Life 
SUMMARY:Rooted Student Ministry 
URL;VALUE=URI:https://www.abundantlifekap.com/events/rooted-student-ministr
 y/2026-09-04
END:VEVENT
END:VCALENDAR
