BEGIN:VCALENDAR
VERSION:2.0
PRODID:icalendar-ruby
CALSCALE:GREGORIAN
METHOD:PUBLISH
BEGIN:VEVENT
DTSTAMP:20260421T170759Z
UID:7-4362771@abundantlifekap.com
DTSTART:20260911T230000Z
DTEND:20260912T000000Z
CLASS:PUBLIC
CREATED:20260421T112959
DESCRIPTION:Rooted Student Ministry 
LAST-MODIFIED:20260421T112959
LOCATION:Abundant Life 
SUMMARY:Rooted Student Ministry 
URL;VALUE=URI:https://www.abundantlifekap.com/events/rooted-student-ministr
 y/2026-09-11
END:VEVENT
END:VCALENDAR
