BEGIN:VCALENDAR
VERSION:2.0
PRODID:icalendar-ruby
CALSCALE:GREGORIAN
METHOD:PUBLISH
BEGIN:VEVENT
DTSTAMP:20260421T185343Z
UID:7-4364888@abundantlifekap.com
DTSTART:20260918T230000Z
DTEND:20260919T000000Z
CLASS:PUBLIC
CREATED:20260421T140944
DESCRIPTION:Rooted Student Ministry 
LAST-MODIFIED:20260421T140944
LOCATION:Abundant Life 
SUMMARY:Rooted Student Ministry 
URL;VALUE=URI:https://www.abundantlifekap.com/events/rooted-student-ministr
 y/2026-09-18
END:VEVENT
END:VCALENDAR
