BEGIN:VCALENDAR
VERSION:2.0
PRODID:icalendar-ruby
CALSCALE:GREGORIAN
METHOD:PUBLISH
BEGIN:VEVENT
DTSTAMP:20260421T220551Z
UID:7-4367006@abundantlifekap.com
DTSTART:20261002T230000Z
DTEND:20261003T000000Z
CLASS:PUBLIC
CREATED:20260421T164549
DESCRIPTION:Rooted Student Ministry 
LAST-MODIFIED:20260421T164549
LOCATION:Abundant Life 
SUMMARY:Rooted Student Ministry 
URL;VALUE=URI:https://www.abundantlifekap.com/events/rooted-student-ministr
 y/2026-10-02
END:VEVENT
END:VCALENDAR
