BEGIN:VCALENDAR
VERSION:2.0
PRODID:icalendar-ruby
CALSCALE:GREGORIAN
METHOD:PUBLISH
BEGIN:VEVENT
DTSTAMP:20260422T041504Z
UID:7-4369126@abundantlifekap.com
DTSTART:20261030T230000Z
DTEND:20261031T000000Z
CLASS:PUBLIC
CREATED:20260421T192424
DESCRIPTION:Rooted Student Ministry 
LAST-MODIFIED:20260421T192424
LOCATION:Abundant Life 
SUMMARY:Rooted Student Ministry 
URL;VALUE=URI:https://www.abundantlifekap.com/events/rooted-student-ministr
 y/2026-10-30
END:VEVENT
END:VCALENDAR
